Package: mirIntegrator Version: 1.41.0 Command: /home/biocbuild/bbs-3.23-bioc/R/bin/R CMD build --keep-empty-dirs --no-resave-data mirIntegrator StartedAt: 2025-11-13 18:41:23 -0500 (Thu, 13 Nov 2025) EndedAt: 2025-11-13 18:42:26 -0500 (Thu, 13 Nov 2025) EllapsedTime: 63.1 seconds RetCode: 0 Status: OK PackageFile: mirIntegrator_1.41.0.tar.gz PackageFileSize: 1.808 MiB