Package: mirIntegrator Version: 1.41.0 Command: /Library/Frameworks/R.framework/Resources/bin/R CMD INSTALL mirIntegrator StartedAt: 2025-11-14 15:09:48 -0500 (Fri, 14 Nov 2025) EndedAt: 2025-11-14 15:09:55 -0500 (Fri, 14 Nov 2025) EllapsedTime: 7.0 seconds RetCode: 0 Status: OK