Package: mirIntegrator Version: 1.41.0 Command: /Library/Frameworks/R.framework/Resources/bin/R CMD build --keep-empty-dirs --no-resave-data mirIntegrator StartedAt: 2025-11-14 16:59:15 -0500 (Fri, 14 Nov 2025) EndedAt: 2025-11-14 16:59:42 -0500 (Fri, 14 Nov 2025) EllapsedTime: 27.3 seconds RetCode: 0 Status: OK PackageFile: mirIntegrator_1.41.0.tar.gz PackageFileSize: 1.808 MiB