Package: mirIntegrator Version: 1.41.0 Command: rm -rf mirIntegrator.buildbin-libdir && mkdir mirIntegrator.buildbin-libdir && /Users/biocbuild/BBS/utils/build-universal.sh mirIntegrator_1.41.0.tar.gz /Library/Frameworks/R.framework/Resources/bin/R mirIntegrator.buildbin-libdir StartedAt: 2025-11-14 23:40:54 -0500 (Fri, 14 Nov 2025) EndedAt: 2025-11-14 23:41:03 -0500 (Fri, 14 Nov 2025) EllapsedTime: 9.2 seconds RetCode: 0 Status: OK PackageFile: mirIntegrator_1.41.0.tgz PackageFileSize: 1.845 MiB