Package: mirIntegrator Version: 1.41.0 Maintainer: Diana Diaz MaintainerEmail: dmd at wayne.edu git_url: https://git.bioconductor.org/packages/mirIntegrator git_branch: devel git_last_commit: 85fa48a git_last_commit_date: 2025-10-29 10:26:26 -0500 (Wed, 29 Oct 2025)