Package: minfi Version: 1.57.0 Command: /Library/Frameworks/R.framework/Resources/bin/R CMD INSTALL minfi StartedAt: 2025-11-16 15:22:03 -0500 (Sun, 16 Nov 2025) EndedAt: 2025-11-16 15:22:23 -0500 (Sun, 16 Nov 2025) EllapsedTime: 19.9 seconds RetCode: 0 Status: OK