Package: minfi Version: 1.57.0 Command: /Library/Frameworks/R.framework/Resources/bin/R CMD build --keep-empty-dirs --no-resave-data minfi StartedAt: 2025-11-16 16:59:38 -0500 (Sun, 16 Nov 2025) EndedAt: 2025-11-16 17:00:26 -0500 (Sun, 16 Nov 2025) EllapsedTime: 47.6 seconds RetCode: 0 Status: OK PackageFile: minfi_1.57.0.tar.gz PackageFileSize: 505.5 KiB