Package: minfi Version: 1.57.0 Command: rm -rf minfi.buildbin-libdir && mkdir minfi.buildbin-libdir && /Users/biocbuild/BBS/utils/build-universal.sh minfi_1.57.0.tar.gz /Library/Frameworks/R.framework/Resources/bin/R minfi.buildbin-libdir StartedAt: 2025-11-16 23:41:57 -0500 (Sun, 16 Nov 2025) EndedAt: 2025-11-16 23:42:22 -0500 (Sun, 16 Nov 2025) EllapsedTime: 24.5 seconds RetCode: 0 Status: OK PackageFile: minfi_1.57.0.tgz PackageFileSize: 1.54 MiB