Package: minet Version: 3.69.0 Command: /home/biocbuild/bbs-3.23-bioc/R/bin/R CMD INSTALL minet StartedAt: 2025-11-14 15:12:19 -0500 (Fri, 14 Nov 2025) EndedAt: 2025-11-14 15:12:31 -0500 (Fri, 14 Nov 2025) EllapsedTime: 11.5 seconds RetCode: 0 Status: OK