Package: minet Version: 3.69.0 Command: /home/biocbuild/bbs-3.23-bioc/R/bin/R CMD build --keep-empty-dirs --no-resave-data minet StartedAt: 2025-11-14 18:39:58 -0500 (Fri, 14 Nov 2025) EndedAt: 2025-11-14 18:39:59 -0500 (Fri, 14 Nov 2025) EllapsedTime: 1.0 seconds RetCode: 0 Status: OK PackageFile: minet_3.69.0.tar.gz PackageFileSize: 50.12 KiB