Package: mina Version: 1.19.0 Command: /home/biocbuild/bbs-3.23-bioc/R/bin/R CMD build --keep-empty-dirs --no-resave-data mina StartedAt: 2025-11-14 18:39:43 -0500 (Fri, 14 Nov 2025) EndedAt: 2025-11-14 18:41:44 -0500 (Fri, 14 Nov 2025) EllapsedTime: 121.1 seconds RetCode: 0 Status: OK PackageFile: mina_1.19.0.tar.gz PackageFileSize: 4.018 MiB