Package: mina Version: 1.19.0 Command: /Library/Frameworks/R.framework/Resources/bin/R CMD INSTALL mina StartedAt: 2025-11-14 15:07:06 -0500 (Fri, 14 Nov 2025) EndedAt: 2025-11-14 15:07:17 -0500 (Fri, 14 Nov 2025) EllapsedTime: 10.5 seconds RetCode: 0 Status: OK