Package: mina Version: 1.19.0 Command: /Library/Frameworks/R.framework/Resources/bin/R CMD build --keep-empty-dirs --no-resave-data mina StartedAt: 2025-11-14 16:58:32 -0500 (Fri, 14 Nov 2025) EndedAt: 2025-11-14 16:59:16 -0500 (Fri, 14 Nov 2025) EllapsedTime: 43.5 seconds RetCode: 0 Status: OK PackageFile: mina_1.19.0.tar.gz PackageFileSize: 4.018 MiB