Package: mina Version: 1.19.0 Command: rm -rf mina.buildbin-libdir && mkdir mina.buildbin-libdir && /Users/biocbuild/BBS/utils/build-universal.sh mina_1.19.0.tar.gz /Library/Frameworks/R.framework/Resources/bin/R mina.buildbin-libdir StartedAt: 2025-11-14 23:40:43 -0500 (Fri, 14 Nov 2025) EndedAt: 2025-11-14 23:40:56 -0500 (Fri, 14 Nov 2025) EllapsedTime: 13.3 seconds RetCode: 0 Status: OK PackageFile: mina_1.19.0.tgz PackageFileSize: 7.853 MiB