Package: mina Version: 1.19.0 Maintainer: Rui Guan MaintainerEmail: guan at mpipz.mpg.de git_url: https://git.bioconductor.org/packages/mina git_branch: devel git_last_commit: 7f01d56 git_last_commit_date: 2025-10-29 11:04:54 -0500 (Wed, 29 Oct 2025)