Package: mimager Version: 1.35.0 Command: /home/biocbuild/bbs-3.23-bioc/R/bin/R CMD INSTALL mimager StartedAt: 2025-11-13 15:21:17 -0500 (Thu, 13 Nov 2025) EndedAt: 2025-11-13 15:21:43 -0500 (Thu, 13 Nov 2025) EllapsedTime: 26.5 seconds RetCode: 0 Status: OK