Package: mimager Version: 1.35.0 Command: /home/biocbuild/bbs-3.23-bioc/R/bin/R CMD build --keep-empty-dirs --no-resave-data mimager StartedAt: 2025-11-13 18:39:12 -0500 (Thu, 13 Nov 2025) EndedAt: 2025-11-13 18:40:09 -0500 (Thu, 13 Nov 2025) EllapsedTime: 57.0 seconds RetCode: 0 Status: OK PackageFile: mimager_1.35.0.tar.gz PackageFileSize: 658.7 KiB