Package: mimager Version: 1.35.0 Command: /Library/Frameworks/R.framework/Resources/bin/R CMD INSTALL mimager StartedAt: 2025-11-13 15:13:24 -0500 (Thu, 13 Nov 2025) EndedAt: 2025-11-13 15:13:35 -0500 (Thu, 13 Nov 2025) EllapsedTime: 11.2 seconds RetCode: 0 Status: OK