Package: mimager Version: 1.35.0 Command: /Library/Frameworks/R.framework/Resources/bin/R CMD build --keep-empty-dirs --no-resave-data mimager StartedAt: 2025-11-13 17:01:05 -0500 (Thu, 13 Nov 2025) EndedAt: 2025-11-13 17:01:36 -0500 (Thu, 13 Nov 2025) EllapsedTime: 31.3 seconds RetCode: 0 Status: OK PackageFile: mimager_1.35.0.tar.gz PackageFileSize: 965.3 KiB