Package: mimager Version: 1.35.0 Maintainer: Aaron Wolen MaintainerEmail: aaron at wolen.com git_url: https://git.bioconductor.org/packages/mimager git_branch: devel git_last_commit: 86a8e49 git_last_commit_date: 2025-10-29 10:36:18 -0500 (Wed, 29 Oct 2025)