Package: miloR Version: 2.7.0 Command: /Library/Frameworks/R.framework/Resources/bin/R CMD INSTALL miloR StartedAt: 2025-11-13 15:30:53 -0500 (Thu, 13 Nov 2025) EndedAt: 2025-11-13 15:31:31 -0500 (Thu, 13 Nov 2025) EllapsedTime: 38.1 seconds RetCode: 0 Status: OK