Package: midasHLA Version: 1.19.0 Command: /Library/Frameworks/R.framework/Resources/bin/R CMD INSTALL midasHLA StartedAt: 2025-11-12 15:26:35 -0500 (Wed, 12 Nov 2025) EndedAt: 2025-11-12 15:26:48 -0500 (Wed, 12 Nov 2025) EllapsedTime: 12.6 seconds RetCode: 0 Status: OK