Package: midasHLA Version: 1.19.0 Command: /Library/Frameworks/R.framework/Resources/bin/R CMD build --keep-empty-dirs --no-resave-data midasHLA StartedAt: 2025-11-13 17:01:04 -0500 (Thu, 13 Nov 2025) EndedAt: 2025-11-13 17:02:09 -0500 (Thu, 13 Nov 2025) EllapsedTime: 64.7 seconds RetCode: 0 Status: OK PackageFile: midasHLA_1.19.0.tar.gz PackageFileSize: 1.894 MiB