Package: microbiomeExplorer Version: 1.21.0 Command: /home/biocbuild/bbs-3.23-bioc/R/bin/R CMD INSTALL microbiomeExplorer StartedAt: 2025-11-13 15:24:12 -0500 (Thu, 13 Nov 2025) EndedAt: 2025-11-13 15:24:24 -0500 (Thu, 13 Nov 2025) EllapsedTime: 12.0 seconds RetCode: 0 Status: OK