Package: microbiomeExplorer Version: 1.21.0 Command: /home/biocbuild/bbs-3.23-bioc/R/bin/R CMD build --keep-empty-dirs --no-resave-data microbiomeExplorer StartedAt: 2025-11-11 18:42:50 -0500 (Tue, 11 Nov 2025) EndedAt: 2025-11-11 18:43:27 -0500 (Tue, 11 Nov 2025) EllapsedTime: 37.0 seconds RetCode: 0 Status: OK PackageFile: microbiomeExplorer_1.21.0.tar.gz PackageFileSize: 2.976 MiB