Package: microbiomeExplorer Version: 1.21.0 Command: /Library/Frameworks/R.framework/Resources/bin/R CMD INSTALL microbiomeExplorer StartedAt: 2025-11-12 15:27:41 -0500 (Wed, 12 Nov 2025) EndedAt: 2025-11-12 15:27:41 -0500 (Wed, 12 Nov 2025) EllapsedTime: 0.2 seconds RetCode: 1 Status: ERROR