############################################################################## ############################################################################## ### ### Running command: ### ### /Library/Frameworks/R.framework/Resources/bin/R CMD INSTALL microbiomeExplorer ### ############################################################################## ############################################################################## * installing to library ‘/Library/Frameworks/R.framework/Versions/4.6-arm64/Resources/library’ ERROR: dependency ‘biomformat’ is not available for package ‘microbiomeExplorer’ Perhaps try a variation of: install.packages('biomformat') * removing ‘/Library/Frameworks/R.framework/Versions/4.6-arm64/Resources/library/microbiomeExplorer’