Package: microbiomeExplorer Version: 1.21.0 Maintainer: Janina Reeder MaintainerEmail: reederj1 at gene.com git_url: https://git.bioconductor.org/packages/microbiomeExplorer git_branch: devel git_last_commit: 6045c09 git_last_commit_date: 2025-10-29 11:03:17 -0500 (Wed, 29 Oct 2025)