Package: microbiomeDASim Version: 1.25.0 Command: /home/biocbuild/bbs-3.23-bioc/R/bin/R CMD INSTALL microbiomeDASim StartedAt: 2025-11-13 15:17:49 -0500 (Thu, 13 Nov 2025) EndedAt: 2025-11-13 15:18:09 -0500 (Thu, 13 Nov 2025) EllapsedTime: 20.3 seconds RetCode: 0 Status: OK