Package: microbiomeDASim Version: 1.25.0 Command: /home/biocbuild/bbs-3.23-bioc/R/bin/R CMD build --keep-empty-dirs --no-resave-data microbiomeDASim StartedAt: 2025-11-14 18:38:39 -0500 (Fri, 14 Nov 2025) EndedAt: 2025-11-14 18:39:24 -0500 (Fri, 14 Nov 2025) EllapsedTime: 45.0 seconds RetCode: 0 Status: OK PackageFile: microbiomeDASim_1.25.0.tar.gz PackageFileSize: 1.498 MiB