Package: microbiomeDASim Version: 1.25.0 Command: /Library/Frameworks/R.framework/Resources/bin/R CMD INSTALL microbiomeDASim StartedAt: 2025-11-14 15:09:06 -0500 (Fri, 14 Nov 2025) EndedAt: 2025-11-14 15:09:14 -0500 (Fri, 14 Nov 2025) EllapsedTime: 8.0 seconds RetCode: 0 Status: OK