Package: microbiomeDASim Version: 1.25.0 Command: /Library/Frameworks/R.framework/Resources/bin/R CMD build --keep-empty-dirs --no-resave-data microbiomeDASim StartedAt: 2025-11-13 17:00:40 -0500 (Thu, 13 Nov 2025) EndedAt: 2025-11-13 17:01:05 -0500 (Thu, 13 Nov 2025) EllapsedTime: 25.4 seconds RetCode: 0 Status: OK PackageFile: microbiomeDASim_1.25.0.tar.gz PackageFileSize: 1.498 MiB