Package: microbiomeDASim Version: 1.25.0 Command: rm -rf microbiomeDASim.buildbin-libdir && mkdir microbiomeDASim.buildbin-libdir && /Users/biocbuild/BBS/utils/build-universal.sh microbiomeDASim_1.25.0.tar.gz /Library/Frameworks/R.framework/Resources/bin/R microbiomeDASim.buildbin-libdir StartedAt: 2025-11-13 23:45:26 -0500 (Thu, 13 Nov 2025) EndedAt: 2025-11-13 23:45:36 -0500 (Thu, 13 Nov 2025) EllapsedTime: 10.2 seconds RetCode: 0 Status: OK PackageFile: microbiomeDASim_1.25.0.tgz PackageFileSize: 1.571 MiB