Package: microbiomeDASim Version: 1.25.0 Maintainer: Justin Williams MaintainerEmail: williazo at ucla.edu git_url: https://git.bioconductor.org/packages/microbiomeDASim git_branch: devel git_last_commit: 5e863d9 git_last_commit_date: 2025-10-29 10:54:08 -0500 (Wed, 29 Oct 2025)