Package: microSTASIS Version: 1.11.0 Command: /Library/Frameworks/R.framework/Resources/bin/R CMD INSTALL microSTASIS StartedAt: 2025-11-12 15:27:47 -0500 (Wed, 12 Nov 2025) EndedAt: 2025-11-12 15:27:48 -0500 (Wed, 12 Nov 2025) EllapsedTime: 1.2 seconds RetCode: 0 Status: OK