Package: microSTASIS Version: 1.11.0 Command: /Library/Frameworks/R.framework/Resources/bin/R CMD build --keep-empty-dirs --no-resave-data microSTASIS StartedAt: 2025-11-13 17:01:01 -0500 (Thu, 13 Nov 2025) EndedAt: 2025-11-13 17:01:47 -0500 (Thu, 13 Nov 2025) EllapsedTime: 46.5 seconds RetCode: 0 Status: OK PackageFile: microSTASIS_1.11.0.tar.gz PackageFileSize: 1.424 MiB