Package: microSTASIS Version: 1.11.0 Command: rm -rf microSTASIS.buildbin-libdir && mkdir microSTASIS.buildbin-libdir && /Users/biocbuild/BBS/utils/build-universal.sh microSTASIS_1.11.0.tar.gz /Library/Frameworks/R.framework/Resources/bin/R microSTASIS.buildbin-libdir StartedAt: 2025-11-13 23:45:32 -0500 (Thu, 13 Nov 2025) EndedAt: 2025-11-13 23:45:35 -0500 (Thu, 13 Nov 2025) EllapsedTime: 3.0 seconds RetCode: 0 Status: OK PackageFile: microSTASIS_1.11.0.tgz PackageFileSize: 1.466 MiB