Package: microRNA Version: 1.69.0 Command: /home/biocbuild/bbs-3.23-bioc/R/bin/R CMD INSTALL microRNA StartedAt: 2025-11-14 15:16:06 -0500 (Fri, 14 Nov 2025) EndedAt: 2025-11-14 15:16:17 -0500 (Fri, 14 Nov 2025) EllapsedTime: 11.0 seconds RetCode: 0 Status: OK