Package: microRNA Version: 1.69.0 Command: /home/biocbuild/bbs-3.23-bioc/R/bin/R CMD build --keep-empty-dirs --no-resave-data microRNA StartedAt: 2025-11-13 18:38:59 -0500 (Thu, 13 Nov 2025) EndedAt: 2025-11-13 18:39:03 -0500 (Thu, 13 Nov 2025) EllapsedTime: 4.0 seconds RetCode: 0 Status: OK PackageFile: microRNA_1.69.0.tar.gz PackageFileSize: 5.743 MiB