Package: microRNA Version: 1.69.0 Maintainer: "Michael Lawrence" MaintainerEmail: lawremi at gmail.com git_url: https://git.bioconductor.org/packages/microRNA git_branch: devel git_last_commit: 8b807df git_last_commit_date: 2025-10-29 10:01:25 -0500 (Wed, 29 Oct 2025)