Package: miaSim Version: 1.17.0 Command: /Library/Frameworks/R.framework/Resources/bin/R CMD INSTALL miaSim StartedAt: 2025-11-26 15:16:36 -0500 (Wed, 26 Nov 2025) EndedAt: 2025-11-26 15:16:48 -0500 (Wed, 26 Nov 2025) EllapsedTime: 12.1 seconds RetCode: 0 Status: OK