Package: miaSim Version: 1.17.0 Command: /Library/Frameworks/R.framework/Resources/bin/R CMD build --keep-empty-dirs --no-resave-data miaSim StartedAt: 2025-11-26 16:57:21 -0500 (Wed, 26 Nov 2025) EndedAt: 2025-11-26 16:57:47 -0500 (Wed, 26 Nov 2025) EllapsedTime: 26.3 seconds RetCode: 0 Status: OK PackageFile: miaSim_1.17.0.tar.gz PackageFileSize: 392.5 KiB