Package: miaSim Version: 1.17.0 Command: rm -rf miaSim.buildbin-libdir && mkdir miaSim.buildbin-libdir && /Users/biocbuild/BBS/utils/build-universal.sh miaSim_1.17.0.tar.gz /Library/Frameworks/R.framework/Resources/bin/R miaSim.buildbin-libdir StartedAt: 2025-11-25 23:41:30 -0500 (Tue, 25 Nov 2025) EndedAt: 2025-11-25 23:41:44 -0500 (Tue, 25 Nov 2025) EllapsedTime: 14.3 seconds RetCode: 0 Status: OK PackageFile: miaSim_1.17.0.tgz PackageFileSize: 484 KiB