Package: miRcomp Version: 1.41.0 Command: /Library/Frameworks/R.framework/Resources/bin/R CMD INSTALL miRcomp StartedAt: 2025-11-14 15:07:24 -0500 (Fri, 14 Nov 2025) EndedAt: 2025-11-14 15:07:27 -0500 (Fri, 14 Nov 2025) EllapsedTime: 2.5 seconds RetCode: 0 Status: OK