Package: miRcomp Version: 1.41.0 Command: /Library/Frameworks/R.framework/Resources/bin/R CMD build --keep-empty-dirs --no-resave-data miRcomp StartedAt: 2025-11-16 17:00:04 -0500 (Sun, 16 Nov 2025) EndedAt: 2025-11-16 17:00:19 -0500 (Sun, 16 Nov 2025) EllapsedTime: 15.2 seconds RetCode: 0 Status: OK PackageFile: miRcomp_1.41.0.tar.gz PackageFileSize: 3.057 MiB