Package: miRBaseConverter Version: 1.35.0 Command: /home/biocbuild/bbs-3.23-bioc/R/bin/R CMD INSTALL miRBaseConverter StartedAt: 2025-11-21 15:03:25 -0500 (Fri, 21 Nov 2025) EndedAt: 2025-11-21 15:03:44 -0500 (Fri, 21 Nov 2025) EllapsedTime: 19.0 seconds RetCode: 0 Status: OK