Package: miRBaseConverter Version: 1.35.0 Command: /home/biocbuild/bbs-3.23-bioc/R/bin/R CMD build --keep-empty-dirs --no-resave-data miRBaseConverter StartedAt: 2025-11-21 18:44:04 -0500 (Fri, 21 Nov 2025) EndedAt: 2025-11-21 18:44:25 -0500 (Fri, 21 Nov 2025) EllapsedTime: 21.0 seconds RetCode: 0 Status: OK PackageFile: miRBaseConverter_1.35.0.tar.gz PackageFileSize: 1.939 MiB