Package: miRBaseConverter Version: 1.35.0 Command: /Library/Frameworks/R.framework/Resources/bin/R CMD INSTALL miRBaseConverter StartedAt: 2025-11-14 15:02:21 -0500 (Fri, 14 Nov 2025) EndedAt: 2025-11-14 15:02:32 -0500 (Fri, 14 Nov 2025) EllapsedTime: 10.2 seconds RetCode: 0 Status: OK