Package: miRBaseConverter Version: 1.35.0 Maintainer: Taosheng Xu Taosheng Xu MaintainerEmail: taosheng.x at gmail.com git_url: https://git.bioconductor.org/packages/miRBaseConverter git_branch: devel git_last_commit: 326974e git_last_commit_date: 2025-10-29 10:38:53 -0500 (Wed, 29 Oct 2025)