Package: methylumi Version: 2.57.0 Command: /home/biocbuild/bbs-3.23-bioc/R/bin/R CMD INSTALL methylumi StartedAt: 2025-11-14 16:00:02 -0500 (Fri, 14 Nov 2025) EndedAt: 2025-11-14 16:01:02 -0500 (Fri, 14 Nov 2025) EllapsedTime: 59.9 seconds RetCode: 0 Status: OK